BEGIN:VCALENDAR
VERSION:2.0
PRODID:SchoolNow
CALSCALE:GREGORIAN
BEGIN:VEVENT
UID:1d7bcae0-acae-11f0-bf3d-029e6d33bf05
DTSTAMP:20260421T150605Z
SUMMARY:7th/8th Girls Basketball Practice
URL;VALUE=URI:https://www.brookfieldchristian.org/athletics/basketball-girl
 s-7th-8th/calendar/8733314/7th-8th-girls-basketball-practice
DTSTART:20260211T224500Z
DTEND:20260212T000000Z
END:VEVENT
END:VCALENDAR
