BEGIN:VCALENDAR
VERSION:2.0
PRODID:SchoolNow
CALSCALE:GREGORIAN
BEGIN:VEVENT
UID:7c7af3cc-aef7-11f0-bc75-0a58a9feac02
DTSTAMP:20260421T211056Z
SUMMARY:7th/8th Girls Tournament @ St Paul’s Grafton
LOCATION:St. Paul Lutheran Church and School\, 701 Washington St\, Grafton\
 , WI 53024\, USA
URL;VALUE=URI:https://www.brookfieldchristian.org/athletics/basketball-girl
 s-7th-8th/calendar/8741317/7th-8th-girls-tournament-st-paul-s-grafton
DTSTART:20260109T233000Z
DTEND:20260110T023000Z
END:VEVENT
END:VCALENDAR
