BEGIN:VCALENDAR
VERSION:2.0
PRODID:SchoolNow
CALSCALE:GREGORIAN
BEGIN:VEVENT
UID:7c7af71e-aef7-11f0-9a1d-0a58a9feac02
DTSTAMP:20260421T211056Z
SUMMARY:7th/8th Girls Game @ Heritage Christian
LOCATION:Heritage Christian Schools\, 3500 S Glen Park Rd\, New Berlin\, WI
  53151\, USA
URL;VALUE=URI:https://www.brookfieldchristian.org/athletics/basketball-girl
 s-7th-8th/calendar/8741320/7th-8th-girls-game-heritage-christian
DTSTART:20260116T000000Z
DTEND:20260116T010000Z
END:VEVENT
END:VCALENDAR
