BEGIN:VCALENDAR
VERSION:2.0
PRODID:SchoolNow
CALSCALE:GREGORIAN
BEGIN:VEVENT
UID:7c7af8f4-aef7-11f0-82a7-0a58a9feac02
DTSTAMP:20260421T211056Z
SUMMARY:7th/8th Girls Game @ Brookfield Academy
LOCATION:Brookfield Academy\, 3462 N Brookfield Rd\, Brookfield\, WI 53045\
 , USA
URL;VALUE=URI:https://www.brookfieldchristian.org/athletics/basketball-girl
 s-7th-8th/calendar/8741322/7th-8th-girls-game-brookfield-academy
DTSTART:20260120T013000Z
DTEND:20260120T023000Z
END:VEVENT
END:VCALENDAR
