BEGIN:VCALENDAR
VERSION:2.0
PRODID:SchoolNow
CALSCALE:GREGORIAN
BEGIN:VEVENT
UID:7c7af9d0-aef7-11f0-a1e3-0a58a9feac02
DTSTAMP:20260421T211056Z
SUMMARY:7th/8th Girls Game Vs FIL - Cedarburg
URL;VALUE=URI:https://www.brookfieldchristian.org/athletics/basketball-girl
 s-7th-8th/calendar/8741323/7th-8th-girls-game-vs-fil-cedarburg
DTSTART:20260122T233000Z
DTEND:20260123T003000Z
END:VEVENT
END:VCALENDAR
