BEGIN:VCALENDAR
VERSION:2.0
PRODID:SchoolNow
CALSCALE:GREGORIAN
BEGIN:VEVENT
UID:7c7afcb4-aef7-11f0-8a28-0a58a9feac02
DTSTAMP:20260421T150605Z
SUMMARY:7th/8th Girls Game vs Star of Bethlehem
URL;VALUE=URI:https://www.brookfieldchristian.org/athletics/basketball-girl
 s-7th-8th/calendar/8741326/7th-8th-girls-game-vs-star-of-bethlehem
DTSTART:20260203T220000Z
DTEND:20260203T230000Z
END:VEVENT
END:VCALENDAR
