BEGIN:VCALENDAR
VERSION:2.0
PRODID:SchoolNow
CALSCALE:GREGORIAN
BEGIN:VEVENT
UID:7c7afd90-aef7-11f0-accd-0a58a9feac02
DTSTAMP:20260421T150605Z
SUMMARY:Divine Redeemer Tournament
LOCATION:Divine Redeemer Lutheran School\, 31385 Hill Rd\, Hartland\, WI 53
 029\, USA
URL;VALUE=URI:https://www.brookfieldchristian.org/athletics/basketball-girl
 s-7th-8th/calendar/8741327/divine-redeemer-tournament
DTSTART:20260205T220000Z
DTEND:20260206T020000Z
END:VEVENT
END:VCALENDAR
