BEGIN:VCALENDAR
VERSION:2.0
PRODID:SchoolNow
CALSCALE:GREGORIAN
BEGIN:VEVENT
UID:7c7b002e-aef7-11f0-b439-0a58a9feac02
DTSTAMP:20260421T150605Z
SUMMARY:CSI Basketball Tournament
LOCATION:Central Wisconsin Christian School\, 301 Fox Lake Rd\, Waupun\, WI
  53963\, USA
URL;VALUE=URI:https://www.brookfieldchristian.org/athletics/basketball-girl
 s-7th-8th/calendar/8741330/csi-basketball-tournament
DTSTART;VALUE=DATE:20260213
DTEND;VALUE=DATE:20260214
END:VEVENT
END:VCALENDAR
