BEGIN:VCALENDAR
VERSION:2.0
PRODID:SchoolNow
CALSCALE:GREGORIAN
BEGIN:VEVENT
UID:213bb0c4-1e27-11f1-a339-0affea544755
DTSTAMP:20260421T211031Z
SUMMARY:5/6 Relay Meet @ St John’s
URL;VALUE=URI:https://www.brookfieldchristian.org/athletics/bcs-track/calen
 dar/8912897/5-6-relay-meet-st-john-s
DTSTART:20260507T210000Z
DTEND:20260508T010000Z
END:VEVENT
END:VCALENDAR
