BEGIN:VCALENDAR
VERSION:2.0
PRODID:SchoolNow
CALSCALE:GREGORIAN
BEGIN:VEVENT
UID:213bb4a2-1e27-11f1-a97f-0affea544755
DTSTAMP:20260421T150536Z
SUMMARY:Track Meet @ Brookfield Academy
LOCATION:Brookfield Academy\, 3462 N Brookfield Rd\, Brookfield\, WI 53045\
 , USA
URL;VALUE=URI:https://www.brookfieldchristian.org/athletics/bcs-track/calen
 dar/8912898/track-meet-brookfield-academy
DTSTART:20260425T133000Z
DTEND:20260425T183000Z
END:VEVENT
END:VCALENDAR
