BEGIN:VCALENDAR
VERSION:2.0
PRODID:SchoolNow
CALSCALE:GREGORIAN
BEGIN:VEVENT
UID:213bb5f6-1e27-11f1-8660-0affea544755
DTSTAMP:20260421T211031Z
SUMMARY:Relay Meet @ Brookfield Academy
URL;VALUE=URI:https://www.brookfieldchristian.org/athletics/bcs-track/calen
 dar/8912899/relay-meet-brookfield-academy
DTSTART:20260416T213000Z
DTEND:20260417T003000Z
END:VEVENT
END:VCALENDAR
