BEGIN:VCALENDAR
VERSION:2.0
PRODID:SchoolNow
CALSCALE:GREGORIAN
BEGIN:VEVENT
UID:213bb70e-1e27-11f1-af1c-0affea544755
DTSTAMP:20260421T150536Z
SUMMARY:Track Meet @ Aug Prep
URL;VALUE=URI:https://www.brookfieldchristian.org/athletics/bcs-track/calen
 dar/8912900/track-meet-aug-prep
DTSTART:20260422T210000Z
DTEND:20260423T010000Z
END:VEVENT
END:VCALENDAR
