BEGIN:VCALENDAR
VERSION:2.0
PRODID:SchoolNow
CALSCALE:GREGORIAN
BEGIN:VEVENT
UID:213bb812-1e27-11f1-9035-0affea544755
DTSTAMP:20260421T211031Z
SUMMARY:7/8 Relay Meet @ St John’s
URL;VALUE=URI:https://www.brookfieldchristian.org/athletics/bcs-track/calen
 dar/8912901/7-8-relay-meet-st-john-s
DTSTART:20260506T210000Z
DTEND:20260507T010000Z
END:VEVENT
END:VCALENDAR
