BEGIN:VCALENDAR
VERSION:2.0
PRODID:SchoolNow
CALSCALE:GREGORIAN
BEGIN:VEVENT
UID:213bb902-1e27-11f1-a4d7-0affea544755
DTSTAMP:20260421T211031Z
SUMMARY:Track Practice
URL;VALUE=URI:https://www.brookfieldchristian.org/athletics/bcs-track/calen
 dar/8912902/track-practice
DTSTART:20260325T203000Z
DTEND:20260325T213000Z
END:VEVENT
END:VCALENDAR
