BEGIN:VCALENDAR
VERSION:2.0
PRODID:SchoolNow
CALSCALE:GREGORIAN
BEGIN:VEVENT
UID:213bb9fc-1e27-11f1-a56c-0affea544755
DTSTAMP:20260421T211031Z
SUMMARY:Track Meet @ Kettle Moraine Lutheran
LOCATION:Kettle Moraine Lutheran High School\, 3399 Division Rd\, Jackson\,
  WI 53037\, USA
URL;VALUE=URI:https://www.brookfieldchristian.org/athletics/bcs-track/calen
 dar/8912903/track-meet-kettle-moraine-lutheran
DTSTART:20260427T210000Z
DTEND:20260428T010000Z
END:VEVENT
END:VCALENDAR
