BEGIN:VCALENDAR
VERSION:2.0
PRODID:SchoolNow
CALSCALE:GREGORIAN
BEGIN:VEVENT
UID:213bbbdc-1e27-11f1-9329-0affea544755
DTSTAMP:20260421T211031Z
SUMMARY:Track Practice
URL;VALUE=URI:https://www.brookfieldchristian.org/athletics/bcs-track/calen
 dar/8912905/track-practice
DTSTART:20260417T203000Z
DTEND:20260417T213000Z
END:VEVENT
END:VCALENDAR
