BEGIN:VCALENDAR
VERSION:2.0
PRODID:SchoolNow
CALSCALE:GREGORIAN
BEGIN:VEVENT
UID:36691eb0-1f25-11f1-9d50-0a58a9feac02
DTSTAMP:20260421T211031Z
SUMMARY:CSI Track Meet
LOCATION:Delavan-Darien High School\, 150 Cummings St\, Delavan\, WI 53115\
 , USA
URL;VALUE=URI:https://www.brookfieldchristian.org/athletics/bcs-track/calen
 dar/8916127/csi-track-meet
DTSTART;VALUE=DATE:20260515
DTEND;VALUE=DATE:20260516
END:VEVENT
END:VCALENDAR
