BEGIN:VCALENDAR
VERSION:2.0
PRODID:SchoolNow
CALSCALE:GREGORIAN
BEGIN:VEVENT
UID:d20a497c-77b2-11f0-abb1-0e70e7511439
DTSTAMP:20251216T154620Z
SUMMARY:5th Volleyball Practice
URL;VALUE=URI:https://www.brookfieldchristian.org/athletics/volleyball-5th-
 girls/calendar/8495275/5th-volleyball-practice
DTSTART:20251002T203000Z
DTEND:20251002T220000Z
END:VEVENT
END:VCALENDAR
