BEGIN:VCALENDAR
VERSION:2.0
PRODID:SchoolNow
CALSCALE:GREGORIAN
BEGIN:VEVENT
UID:b82a7830-7c74-11f0-b238-0a58a9feac02
DTSTAMP:20251216T154620Z
SUMMARY:5th Volleyball @ Star of Bethlehem Lutheran
LOCATION:Star of Bethlehem Lutheran School\, 3700 S Casper Dr\, New Berlin\
 , WI 53151\, USA
URL;VALUE=URI:https://www.brookfieldchristian.org/athletics/volleyball-5th-
 girls/calendar/8519101/5th-volleyball-star-of-bethlehem-lutheran
DTSTART:20250908T211500Z
DTEND:20250908T221500Z
END:VEVENT
END:VCALENDAR
