BEGIN:VCALENDAR
VERSION:2.0
PRODID:SchoolNow
CALSCALE:GREGORIAN
BEGIN:VEVENT
UID:b82a7b82-7c74-11f0-9731-0a58a9feac02
DTSTAMP:20251216T154620Z
SUMMARY:5th Volleyball Game 1 @ Divine Redeemer
LOCATION:Divine Redeemer Lutheran School\, 31385 Hill Rd\, Hartland\, WI 53
 029\, USA
URL;VALUE=URI:https://www.brookfieldchristian.org/athletics/volleyball-5th-
 girls/calendar/8519102/5th-volleyball-game-1-divine-redeemer
DTSTART:20250929T211500Z
DTEND:20250929T220000Z
END:VEVENT
END:VCALENDAR
