BEGIN:VCALENDAR
VERSION:2.0
PRODID:SchoolNow
CALSCALE:GREGORIAN
BEGIN:VEVENT
UID:b82a7cc2-7c74-11f0-85aa-0a58a9feac02
DTSTAMP:20251216T154620Z
SUMMARY:5th Volleyball Game @ Brookfield Academy
LOCATION:Brookfield Academy\, 3462 N Brookfield Rd\, Brookfield\, WI 53045\
 , USA
URL;VALUE=URI:https://www.brookfieldchristian.org/athletics/volleyball-5th-
 girls/calendar/8519103/5th-volleyball-game-brookfield-academy
DTSTART:20250922T213000Z
DTEND:20250922T223000Z
END:VEVENT
END:VCALENDAR
