BEGIN:VCALENDAR
VERSION:2.0
PRODID:SchoolNow
CALSCALE:GREGORIAN
BEGIN:VEVENT
UID:b82a7dc6-7c74-11f0-8ffe-0a58a9feac02
DTSTAMP:20251216T154620Z
SUMMARY:5th Volleyball vs Star of Bethlehem Lutheran
URL;VALUE=URI:https://www.brookfieldchristian.org/athletics/volleyball-5th-
 girls/calendar/8519104/5th-volleyball-vs-star-of-bethlehem-lutheran
DTSTART:20250925T223000Z
DTEND:20250925T233000Z
END:VEVENT
END:VCALENDAR
