BEGIN:VCALENDAR
VERSION:2.0
PRODID:SchoolNow
CALSCALE:GREGORIAN
BEGIN:VEVENT
UID:b82a7ec0-7c74-11f0-861d-0a58a9feac02
DTSTAMP:20251216T154620Z
SUMMARY:5th Volleyball Vs Immanuel Lutheran
URL;VALUE=URI:https://www.brookfieldchristian.org/athletics/volleyball-5th-
 girls/calendar/8519105/5th-volleyball-vs-immanuel-lutheran
DTSTART:20250911T220000Z
DTEND:20250911T230000Z
END:VEVENT
END:VCALENDAR
