BEGIN:VCALENDAR
VERSION:2.0
PRODID:SchoolNow
CALSCALE:GREGORIAN
BEGIN:VEVENT
UID:b82a803c-7c74-11f0-9372-0a58a9feac02
DTSTAMP:20251216T154620Z
SUMMARY:5th Volleyball Game vs Grace Lutheran
URL;VALUE=URI:https://www.brookfieldchristian.org/athletics/volleyball-5th-
 girls/calendar/8519106/5th-volleyball-game-vs-grace-lutheran
DTSTART:20250918T223000Z
DTEND:20250918T233000Z
END:VEVENT
END:VCALENDAR
