BEGIN:VCALENDAR
VERSION:2.0
PRODID:SchoolNow
CALSCALE:GREGORIAN
BEGIN:VEVENT
UID:b82a81fe-7c74-11f0-adf2-0a58a9feac02
DTSTAMP:20251216T154620Z
SUMMARY:Tournament @ Immanuel Lutheran - Brookfield
URL;VALUE=URI:https://www.brookfieldchristian.org/athletics/volleyball-5th-
 girls/calendar/8519108/tournament-immanuel-lutheran-brookfield
DTSTART:20251010T210000Z
DTEND:20251011T010000Z
END:VEVENT
END:VCALENDAR
