BEGIN:VCALENDAR
VERSION:2.0
PRODID:SchoolNow
CALSCALE:GREGORIAN
BEGIN:VEVENT
UID:1f50e416-84f6-11f0-88b9-0a58a9feac02
DTSTAMP:20251216T154620Z
SUMMARY:5th Volleyball Game #2 vs Immanuel Lutheran
URL;VALUE=URI:https://www.brookfieldchristian.org/athletics/volleyball-5th-
 girls/calendar/8558435/5th-volleyball-game-2-vs-immanuel-lutheran
DTSTART:20250911T230000Z
DTEND:20250912T000000Z
END:VEVENT
END:VCALENDAR
