BEGIN:VCALENDAR
VERSION:2.0
PRODID:SchoolNow
CALSCALE:GREGORIAN
BEGIN:VEVENT
UID:5d44859c-9af5-11f0-bd37-0eab8c4f39e9
DTSTAMP:20251216T154620Z
SUMMARY:5th Volleyball Game 2 @ Divine Redeemer
LOCATION:Divine Redeemer Lutheran School\, 31385 Hill Rd\, Hartland\, WI 53
 029\, USA
URL;VALUE=URI:https://www.brookfieldchristian.org/athletics/volleyball-5th-
 girls/calendar/8667835/5th-volleyball-game-2-divine-redeemer
DTSTART:20250929T220000Z
DTEND:20250929T224500Z
END:VEVENT
END:VCALENDAR
