BEGIN:VCALENDAR
VERSION:2.0
PRODID:SchoolNow
CALSCALE:GREGORIAN
BEGIN:VEVENT
UID:4ef4f94e-7904-11f0-a2c9-0ea48a1b78b7
DTSTAMP:20251216T154620Z
SUMMARY:5th/6th Volleyball Preseason Workouts
URL;VALUE=URI:https://www.brookfieldchristian.org/athletics/volleyball-6th-
 grade-girls/calendar/8507390/5th-6th-volleyball-preseason-workouts
DTSTART:20250819T133000Z
DTEND:20250819T153000Z
END:VEVENT
END:VCALENDAR
