BEGIN:VCALENDAR
VERSION:2.0
PRODID:SchoolNow
CALSCALE:GREGORIAN
BEGIN:VEVENT
UID:4ef4fb9c-7904-11f0-ae5f-0ea48a1b78b7
DTSTAMP:20251216T154620Z
SUMMARY:6th Volleyball Practice
URL;VALUE=URI:https://www.brookfieldchristian.org/athletics/volleyball-6th-
 grade-girls/calendar/8507392/6th-volleyball-practice
DTSTART:20250827T203000Z
DTEND:20250827T220000Z
END:VEVENT
END:VCALENDAR
