BEGIN:VCALENDAR
VERSION:2.0
PRODID:SchoolNow
CALSCALE:GREGORIAN
BEGIN:VEVENT
UID:2269b7e2-7937-11f0-b70e-0a58a9feac02
DTSTAMP:20251216T154620Z
SUMMARY:6th Volleyball @ Star of Bethlehem Lutheran
LOCATION:Star of Bethlehem Lutheran School\, 3700 S Casper Dr\, New Berlin\
 , WI 53151\, USA
URL;VALUE=URI:https://www.brookfieldchristian.org/athletics/volleyball-6th-
 grade-girls/calendar/8508036/6th-volleyball-star-of-bethlehem-lutheran
DTSTART:20250908T221500Z
DTEND:20250908T231500Z
END:VEVENT
END:VCALENDAR
