BEGIN:VCALENDAR
VERSION:2.0
PRODID:SchoolNow
CALSCALE:GREGORIAN
BEGIN:VEVENT
UID:2269bb70-7937-11f0-8481-0a58a9feac02
DTSTAMP:20251216T154620Z
SUMMARY:6th Volleyball Game @ Divine Redeemer
LOCATION:Divine Redeemer Lutheran School\, 31385 Hill Rd\, Hartland\, WI 53
 029\, USA
URL;VALUE=URI:https://www.brookfieldchristian.org/athletics/volleyball-6th-
 grade-girls/calendar/8508037/6th-volleyball-game-divine-redeemer
DTSTART:20250929T224500Z
DTEND:20250929T233000Z
END:VEVENT
END:VCALENDAR
