BEGIN:VCALENDAR
VERSION:2.0
PRODID:SchoolNow
CALSCALE:GREGORIAN
BEGIN:VEVENT
UID:2269bcb0-7937-11f0-b2d0-0a58a9feac02
DTSTAMP:20251216T154620Z
SUMMARY:6th Game @ Brookfield Academy
LOCATION:Brookfield Academy\, 3462 N Brookfield Rd\, Brookfield\, WI 53045\
 , USA
URL;VALUE=URI:https://www.brookfieldchristian.org/athletics/volleyball-6th-
 grade-girls/calendar/8508038/6th-game-brookfield-academy
DTSTART:20250922T223000Z
DTEND:20250922T233000Z
END:VEVENT
END:VCALENDAR
