BEGIN:VCALENDAR
VERSION:2.0
PRODID:SchoolNow
CALSCALE:GREGORIAN
BEGIN:VEVENT
UID:2269bdb4-7937-11f0-b27c-0a58a9feac02
DTSTAMP:20251216T154620Z
SUMMARY:6th Volleyball Game vs St Johns
URL;VALUE=URI:https://www.brookfieldchristian.org/athletics/volleyball-6th-
 grade-girls/calendar/8508039/6th-volleyball-game-vs-st-johns
DTSTART:20251007T213000Z
DTEND:20251007T223000Z
END:VEVENT
END:VCALENDAR
