BEGIN:VCALENDAR
VERSION:2.0
PRODID:SchoolNow
CALSCALE:GREGORIAN
BEGIN:VEVENT
UID:2269bf94-7937-11f0-84ba-0a58a9feac02
DTSTAMP:20251216T154620Z
SUMMARY:6th Volleyball vs Star of Bethlehem Lutheran
URL;VALUE=URI:https://www.brookfieldchristian.org/athletics/volleyball-6th-
 grade-girls/calendar/8508041/6th-volleyball-vs-star-of-bethlehem-lutheran
DTSTART:20250925T213000Z
DTEND:20250925T223000Z
END:VEVENT
END:VCALENDAR
