BEGIN:VCALENDAR
VERSION:2.0
PRODID:SchoolNow
CALSCALE:GREGORIAN
BEGIN:VEVENT
UID:2269c07a-7937-11f0-9233-0a58a9feac02
DTSTAMP:20251216T154620Z
SUMMARY:6th Volleyball Vs Immanuel Lutheran
URL;VALUE=URI:https://www.brookfieldchristian.org/athletics/volleyball-6th-
 grade-girls/calendar/8508042/6th-volleyball-vs-immanuel-lutheran
DTSTART:20250911T210000Z
DTEND:20250911T220000Z
END:VEVENT
END:VCALENDAR
