BEGIN:VCALENDAR
VERSION:2.0
PRODID:SchoolNow
CALSCALE:GREGORIAN
BEGIN:VEVENT
UID:1acfbb70-796a-11f0-b93f-0a58a9feac02
DTSTAMP:20251216T154620Z
SUMMARY:6th Volleyball Game vs Grace Lutheran
URL;VALUE=URI:https://www.brookfieldchristian.org/athletics/volleyball-6th-
 grade-girls/calendar/8509032/6th-volleyball-game-vs-grace-lutheran
DTSTART:20250918T213000Z
DTEND:20250918T223000Z
END:VEVENT
END:VCALENDAR
