BEGIN:VCALENDAR
VERSION:2.0
PRODID:SchoolNow
CALSCALE:GREGORIAN
BEGIN:VEVENT
UID:1acff586-796a-11f0-bd14-0a58a9feac02
DTSTAMP:20251216T154620Z
SUMMARY:Tournament @ Immanuel Lutheran - Brookfield
URL;VALUE=URI:https://www.brookfieldchristian.org/athletics/volleyball-6th-
 grade-girls/calendar/8509033/tournament-immanuel-lutheran-brookfield
DTSTART:20251009T210000Z
DTEND:20251010T010000Z
END:VEVENT
END:VCALENDAR
