BEGIN:VCALENDAR
VERSION:2.0
PRODID:SchoolNow
CALSCALE:GREGORIAN
BEGIN:VEVENT
UID:1acff932-796a-11f0-8e05-0a58a9feac02
DTSTAMP:20251216T154620Z
SUMMARY:Tournament @ Immanuel Lutheran - Brookfield
URL;VALUE=URI:https://www.brookfieldchristian.org/athletics/volleyball-6th-
 grade-girls/calendar/8509035/tournament-immanuel-lutheran-brookfield
DTSTART;VALUE=DATE:20251011
DTEND;VALUE=DATE:20251012
END:VEVENT
END:VCALENDAR
