BEGIN:VCALENDAR
VERSION:2.0
PRODID:SchoolNow
CALSCALE:GREGORIAN
BEGIN:VEVENT
UID:87ab4e0c-91fd-11f0-bdcf-0a58a9feac02
DTSTAMP:20251216T154620Z
SUMMARY:6th Volleyball Practice
URL;VALUE=URI:https://www.brookfieldchristian.org/athletics/volleyball-6th-
 grade-girls/calendar/8622966/6th-volleyball-practice
DTSTART:20250915T203000Z
DTEND:20250915T220000Z
END:VEVENT
END:VCALENDAR
