BEGIN:VCALENDAR
VERSION:2.0
PRODID:SchoolNow
CALSCALE:GREGORIAN
BEGIN:VEVENT
UID:8a628064-a483-11f0-a225-0a58a9feac02
DTSTAMP:20251216T154620Z
SUMMARY:6th Volleyball
URL;VALUE=URI:https://www.brookfieldchristian.org/athletics/volleyball-6th-
 grade-girls/calendar/8706431/6th-volleyball
DTSTART:20251015T203000Z
DTEND:20251015T220000Z
END:VEVENT
END:VCALENDAR
